BEGIN:VCALENDAR
VERSION:2.0
PRODID:-//Sheringham Stable Door - ECPv4.7.4//NONSGML v1.0//EN
CALSCALE:GREGORIAN
METHOD:PUBLISH
X-WR-CALNAME:Sheringham Stable Door
X-ORIGINAL-URL:https://sheringhamstabledoor.co.uk
X-WR-CALDESC:Events for Sheringham Stable Door
BEGIN:VEVENT
DTSTART;TZID=UTC+0:20170404T110000
DTEND;TZID=UTC+0:20170404T170000
DTSTAMP:20260424T133230
CREATED:20170404T071239Z
LAST-MODIFIED:20170404T071239Z
UID:63-1491303600-1491325200@sheringhamstabledoor.co.uk
SUMMARY:Marathon 2017: Run for Cancer People
DESCRIPTION:Runners interested in participating in the  017-18 California Marathon  can guarantee their place. \n
URL:https://sheringhamstabledoor.co.uk/event/marathon-2017-run-for-cancer-people/
LOCATION:New Grand Street\, California
CATEGORIES:Upcomming Events
ATTACH;FMTTYPE=image/jpeg:https://sheringhamstabledoor.co.uk/wp-content/uploads/2017/04/placeholder-143.jpg
END:VEVENT
BEGIN:VEVENT
DTSTART;TZID=UTC+0:20170404T110000
DTEND;TZID=UTC+0:20170404T170000
DTSTAMP:20260424T133230
CREATED:20170404T071327Z
LAST-MODIFIED:20170404T071327Z
UID:67-1491303600-1491325200@sheringhamstabledoor.co.uk
SUMMARY:Let’s walk to the  Poor children education
DESCRIPTION:NightWalk program is a safety walking program that is Secured by the  security guard & staff. \n
URL:https://sheringhamstabledoor.co.uk/event/lets-walk-to-the-poor-children-education/
LOCATION:New Grand Street\, California
CATEGORIES:Upcomming Events
ATTACH;FMTTYPE=image/jpeg:https://sheringhamstabledoor.co.uk/wp-content/uploads/2017/04/placeholder-144.jpg
END:VEVENT
END:VCALENDAR