BEGIN:VCALENDAR
VERSION:2.0
PRODID:-//Sheringham Stable Door - ECPv4.7.4//NONSGML v1.0//EN
CALSCALE:GREGORIAN
METHOD:PUBLISH
X-WR-CALNAME:Sheringham Stable Door
X-ORIGINAL-URL:https://sheringhamstabledoor.co.uk
X-WR-CALDESC:Events for Sheringham Stable Door
BEGIN:VEVENT
DTSTART;TZID=UTC+0:20170518T100000
DTEND;TZID=UTC+0:20170518T170000
DTSTAMP:20260423T164728
CREATED:20170406T060510Z
LAST-MODIFIED:20170406T060510Z
UID:279-1495101600-1495126800@sheringhamstabledoor.co.uk
SUMMARY:Auction photographs: Poor children’s smile
DESCRIPTION:Runners interested in participating the event 2017-18 California marathon your contrbution used locally to help charitable causes and support the organization\, Support. only for good causes. . \n
URL:https://sheringhamstabledoor.co.uk/event/auction-photographs-poor-childrens-smile/
LOCATION:New Grand Street\, California
CATEGORIES:Event List View
ATTACH;FMTTYPE=image/jpeg:https://sheringhamstabledoor.co.uk/wp-content/uploads/2017/04/placeholder-181.jpg
END:VEVENT
END:VCALENDAR